BEGIN:VCALENDAR
METHOD:PUBLISH
VERSION:2.0
PRODID:-//Eventilla iCal Syndication//NONSGML Liana//EN
BEGIN:VEVENT
UID:YaX0X@eventilla.com
DTSTAMP:20250912T060000Z
DTSTART:20250912T060000Z
DTEND:20250912T073000Z
SUMMARY:Vastuullisuusviestinnän ABC
DESCRIPTION:Mitä vastuullisuudesta kannattaa viestiä – ja mitä ei? Miten sanoittaa vastuullisuusteot ymmärrettävästi ja vakuuttavasti ilman liioittelua tai latteuksia? Entä mitä vastuullisuusviestintä oikeastaan on ja miten se eroaa perinteisestä organisaatioviestinnästä?\nVastuullisuusviestinnän onnistuminen ei vaadi täydellisyyttä tai näyttäviä kampanjoita\, vaan arkeen juurtunutta\, rehellistä vuoropuhelua sidosryhmien kanssa. Kun viestintä on suunniteltua\, pohjautuu aitoihin tekoihin ja tavoittaa oikeat ihmiset oikeilla sisällöillä\, syntyy vaikuttavuutta.\nWebinaarissa käydään läpi vastuullisuusviestinnän perusteet selkeästi ja käytännönläheisesti. Koulutuksen jälkeen osallistujat ymmärtävät\, mistä vastuullisuusviestinnässä on kyse ja pääsevät heti alkuun oman organisaationsa vaikuttavan vastuullisuusviestinnän suunnittelussa.\nWebinaarissa käymme läpi:\n\nVastuullisuusviestintä ei ole vain viestintää vastuullisuudesta\, mutta mitä se on – ja mitä se ei ole?\nMiksi vastuullisuus on tärkeää juuri nyt ja miksi siitä on välttämätöntä viestiä?\nOnnistuneen vastuullisuusviestinnän peruspilarit\nMikä erottaa vastuullisuusviestinnän mainonnasta tai perinteisestä organisaatioviestinnästä?\nViherpesun välttäminen ja läpinäkyvyyden rakentaminen\nVastuullisuusviestinnän kehittämisen kolmivaiheinen polku: kivijalan rakentaminen\, vastuullinen toiminta ja vaikuttava viestintä\nEnsiaskeleet oman organisaation vastuullisuusviestinnän kehittämiseen\n\nKouluttaja\nArna Grym\, viestinnän asiantuntija / Grymmin satuja Oy.\nArna on kokenut viestinnän asiantuntija\, kouluttaja\, journalisti ja yrittäjä\, joka auttaa asiakkaitaan viestimään vaikuttavammin ja ymmärrettävämmin. Hän on kehittänyt vastuullisuusviestinnän kehittämisen mallin\, jonka tavoitteena on auttaa organisaatioita ymmärtämään vastuullisuusviestinnän monimutkaista kokonaisuutta ja suunnittelemaan selkeää ja vaikuttavaa viestintää.\nArnan käytännönläheisissä koulutuksissa yhdistyvät selkeä teoria\, sovellettavat työkalut ja käytännön esimerkit\, ja osallistujat saavat niistä mukaansa konkreettisia vinkkejä omaan työhön\n \nIlmoittaudu mukaan 12.9. klo 9 mennessä\nHuom! Webinaarista tehdään tallenne. Emme lähetä koulutusten jälkeen linkkejä tallenteisiin\, vaan niitä pääsee katsomaan verkkoasiointimme kautta. Julkaisemme tallenteet pääsääntöisesti koulutusta seuraavana arkipäivänä.\nOhjeet Zoom-webinaariin\n\nRekisteröityessäsi mukaan webinaariin\, sinua pyydetään täyttämään etunimesi\, sukunimesi\, sähköpostiosoitteesi ja jäsenyhdistyksesi. Käytäthän sellaista sähköpostiosoitetta\, joka on sinulla aktiivisessa käytössä\, sillä webinaarin osallistumislinkki ja tapahtumamuistutukset lähetetään ko. sähköpostiin. Jos et halua oikean nimesi näkyvän webinaarin chat-palstalla\, voit kirjoittaa etu- ja sukunimikenttiin esimerkiksi nimesi etukirjaimet tai jonkin itse keksimäsi nimimerkin. Huomaathan kuitenkin\, että nimimerkin tulee olla asiallinen. Emme suosittele rekisteröitymistä Facebook-tunnuksilla.\nSinun ei tarvitse ladata Zoom-ohjelmaa koneellesi\, voit osallistua selaimella klikkaamalla saamaasi osallistumislinkkiä. Zoom-webinaari toimii parhaiten Chrome-selaimella.\nJos webinaari tallennetaan\, siitä mainitaan webinaarin alussa. Chattikeskustelu ei näy tallenteessa\, ainoastaan kouluttajan ja fasilitaattorin puhe sekä diaesitys.\nOsallistujalista ei näy muille osallistujille. Kaikkien osallistujien äänet ja videokuvat on webinaarissa valmiiksi mykistetty. Keskustelu ja kysymykset käydään chat-palstalla. Rekisteröitymisvaiheessa antamasi nimi näkyy sellaisenaan chatissa.\nOlemme Akavan Erityisaloissa tehneet työtä sen eteen\, että Zoomin käyttö on tietoturvallista. Voit siis huoletta klikata itsesi mukaan!\nJos sinulla on teknisiä ongelmia tai muita kysymyksiä Zoomiin liittyen\, voit olla yhteydessä: satu.sahla-juvankoski@akavanerityisalat.fi\n
LOCATION:Verkossa
URL:http://tapahtumat.kieliasiantuntijat.fi/event/YaX0X
END:VEVENT
END:VCALENDAR
