BEGIN:VCALENDAR
METHOD:PUBLISH
VERSION:2.0
PRODID:-//Eventilla iCal Syndication//NONSGML Liana//EN
BEGIN:VEVENT
UID:4A7L5@eventilla.com
DTSTAMP:20240419T060000Z
DTSTART:20240419T060000Z
DTEND:20240419T073000Z
SUMMARY:Kognitiivinen työergonomia stressin taltuttajana
DESCRIPTION:Tervetuloa Akavan Erityisalojen ja MIELI ry:n yhdessä toteuttamaan Mieli työssä -webinaarisarjaan!\nMielen vahvistaminen on työelämätaito. Mielenterveys on kivijalka kyvyllemme elää täyttä elämää ja tehdä töitä. Työssä mielen hyvinvointia voi vahvistaa arkisilla keinoilla voimavaroja lisäämällä. Hyvinvoiva mieli tuo työhön intoa\, energiaa\, motivaatiota ja sitoutumista. Mieliystävällisen työpaikan rakentaminen on työyhteisön yhteinen asia. ​\nWebinaarisarja keskittyy mielen hyvinvoinnin ja voimavarojen vahvistamiseen kolmen eri teemakokonaisuuden kautta. Webinaarissa saat tietoa\, vinkkejä ja oivalluksia\, miten teemaa voi soveltaa oman työn ja työyhteisön arkeen mielen hyvinvointia ja voimavaroja vahvistaen.\nKognitiivinen kuormitus on tutkimusten mukaan yksi keskeisimmistä työuupumusta aiheuttavista tekijöistä nykypäivän työelämässä.\nMitä on kognitiivinen kuormitus ja kognitiivinen ergonomia? Miten mieli ja aivot ovat yhteydessä toisiinsa ja miten nämä vaikuttavat työntekoon? Miten voin itse vahvistaa aivojeni ja mieleni hyvinvointia?\nTässä koulutuksessa avataan kognitiivisen kuormituksen käsitettä ja siihen vaikuttavia tekijöitä. Perehdytään kognitiivisen-/aivotyön ergonomian osa-alueisiin ja tarkastellaan sen yhteyttä työkykyyn ja mielenterveyteen. Käydään läpi kognitiivisen ergonomian kulmakiviä ja sitä\, kuinka voit auttaa aivojasi toimimaan ja palautumaan paremmin ja tätä kautta vahvistaa hyvinvointiasi ja mielenterveyttäsi.\nKouluttaja: Mari Huhtiniemi\, asiantuntijapsykologi ja kouluttaja / Työelämän mielenterveys -yksikkö\, MIELI Suomen Mielenterveys ry\n”Haluan olla vahvistamassa oivallusta siitä\, että jokainen meistä voi osaltaan vaikuttaa sekä omaan että työyhteisön hyvinvointiin. Vastuu tästä on yhteinen. Hyvinvointi työssä rakentuu jokapäiväisessä arjessa ja työn on mahdollista olla myös hyvinvointia edistävää. Uskon arvostavan\, yhdenvertaisen ja voimavarakeskeisen kohtaamisen sekä arjen tekojen voimaan. Yksilöiden ja työyhteisöjen hyvinvoinnin vahvistaminen ennakoivalla otteella on sekä inhimillistä että ajallisia ja taloudellisia resursseja säästävää.”\nWebinaarista tehdään tallenne.\nIlmoittaudu koulutukseen 19.4. klo 9 mennessä.\nIlmoittaudu tilaisuuteen tästä\nTapahtuman järjestävät Akavan Erityisalat ja MIELI ry.\nOhjeet Zoom-webinaariin:\n\nRekisteröityessäsi mukaan webinaariin\, sinua pyydetään täyttämään etunimesi\, sukunimesi\, sähköpostiosoitteesi ja jäsenyhdistyksesi. Käytäthän sellaista sähköpostiosoitetta\, joka on sinulla aktiivisessa käytössä\, sillä webinaarin osallistumislinkki ja tapahtumamuistutukset lähetetään ko. sähköpostiin. Jos et halua oikean nimesi näkyvän webinaarin chat-palstalla\, voit kirjoittaa etu- ja sukunimikenttiin esimerkiksi nimesi etukirjaimet tai jonkin itse keksimäsi nimimerkin. Huomaathan kuitenkin\, että nimimerkin tulee olla asiallinen. Emme suosittele rekisteröitymistä Facebook-tunnuksilla.\nSinun ei tarvitse ladata Zoom-ohjelmaa koneellesi\, voit osallistua selaimella klikkaamalla saamaasi osallistumislinkkiä. Zoom-webinaari toimii parhaiten Chrome-selaimella.\nJos webinaari tallennetaan\, siitä mainitaan webinaarin alussa. Chattikeskustelu ei näy tallenteessa\, ainoastaan kouluttajan ja fasilitaattorin puhe sekä diaesitys.\nOsallistujalista ei näy muille osallistujille. Kaikkien osallistujien äänet ja videokuvat on webinaarissa valmiiksi mykistetty. Keskustelu ja kysymykset käydään chat-palstalla. Rekisteröitymisvaiheessa antamasi nimi näkyy sellaisenaan chatissa.\nOlemme Akavan Erityisaloissa tehneet työtä sen eteen\, että Zoomin käyttö on tietoturvallista. Voit siis huoletta klikata itsesi mukaan!\nJos sinulla on teknisiä ongelmia tai muita kysymyksiä Zoomiin liittyen\, voit olla yhteydessä: satu.sahla-juvankoski@akavanerityisalat.fi\n
LOCATION:Zoom
URL:http://tapahtumat.kieliasiantuntijat.fi/event/4A7L5
END:VEVENT
END:VCALENDAR
